BEGIN:VCALENDAR
VERSION:2.0
PRODID:-//Plone.org//NONSGML plone.app.event//EN
X-WR-TIMEZONE:America/Sao_Paulo
BEGIN:VEVENT
SUMMARY:Sessão Ordinária - presencial
DTSTART;TZID=America/Sao_Paulo;VALUE=DATE-TIME:20211213T193000
DTEND;TZID=America/Sao_Paulo;VALUE=DATE-TIME:20211213T220000
DTSTAMP;VALUE=DATE-TIME:20260421T130139Z
UID:99f6fac1224b40e2bf38fafcc681ed3a@www.camarataquaritinga.sp.gov.br
CREATED;VALUE=DATE-TIME:20210920T143816Z
DESCRIPTION:Sessão Ordinária presencial
LAST-MODIFIED;VALUE=DATE-TIME:20210920T143819Z
URL:https://www.camarataquaritinga.sp.gov.br/imprensa/eventos/sessao-ordin
 aria-presencial-7
END:VEVENT
BEGIN:VTIMEZONE
TZID:America/Sao_Paulo
X-LIC-LOCATION:America/Sao_Paulo
BEGIN:STANDARD
DTSTART;VALUE=DATE-TIME:20190216T230000
TZNAME:-03
TZOFFSETFROM:-0200
TZOFFSETTO:-0300
END:STANDARD
END:VTIMEZONE
END:VCALENDAR
