BEGIN:VCALENDAR
VERSION:2.0
PRODID:-//Plone.org//NONSGML plone.app.event//EN
X-WR-TIMEZONE:America/Sao_Paulo
BEGIN:VEVENT
SUMMARY:Sessão Ordinária - presencial
DTSTART;TZID=America/Sao_Paulo;VALUE=DATE-TIME:20211103T193000
DTEND;TZID=America/Sao_Paulo;VALUE=DATE-TIME:20211103T203000
DTSTAMP;VALUE=DATE-TIME:20260421T130124Z
UID:ed6d0033fca345cd9eac13f94b26bb6b@www.camarataquaritinga.sp.gov.br
CREATED;VALUE=DATE-TIME:20210920T142911Z
DESCRIPTION:Sessão Ordinária presencial
LAST-MODIFIED;VALUE=DATE-TIME:20211014T171405Z
URL:https://www.camarataquaritinga.sp.gov.br/imprensa/eventos/sessao-ordin
 aria-presencial-2
END:VEVENT
BEGIN:VTIMEZONE
TZID:America/Sao_Paulo
X-LIC-LOCATION:America/Sao_Paulo
BEGIN:STANDARD
DTSTART;VALUE=DATE-TIME:20190216T230000
TZNAME:-03
TZOFFSETFROM:-0200
TZOFFSETTO:-0300
END:STANDARD
END:VTIMEZONE
END:VCALENDAR
