BEGIN:VCALENDAR
VERSION:2.0
PRODID:-//Plone.org//NONSGML plone.app.event//EN
X-WR-TIMEZONE:America/Sao_Paulo
BEGIN:VEVENT
SUMMARY:Sessão Ordinária
DTSTART;TZID=America/Sao_Paulo;VALUE=DATE-TIME:20220404T193000
DTEND;TZID=America/Sao_Paulo;VALUE=DATE-TIME:20220404T220000
DTSTAMP;VALUE=DATE-TIME:20260421T141007Z
UID:1f778c9fe9c443498bcb78511d142d73@www.camarataquaritinga.sp.gov.br
CREATED;VALUE=DATE-TIME:20220131T120742Z
LAST-MODIFIED;VALUE=DATE-TIME:20220131T120747Z
LOCATION:Câmara Municipal
URL:https://www.camarataquaritinga.sp.gov.br/imprensa/eventos/sessao-ordin
 aria-8
END:VEVENT
BEGIN:VTIMEZONE
TZID:America/Sao_Paulo
X-LIC-LOCATION:America/Sao_Paulo
BEGIN:STANDARD
DTSTART;VALUE=DATE-TIME:20190216T230000
TZNAME:-03
TZOFFSETFROM:-0200
TZOFFSETTO:-0300
END:STANDARD
END:VTIMEZONE
END:VCALENDAR
