BEGIN:VCALENDAR
VERSION:2.0
PRODID:-//Plone.org//NONSGML plone.app.event//EN
X-WR-TIMEZONE:America/Sao_Paulo
BEGIN:VEVENT
SUMMARY:Sessão Ordinária
DTSTART;TZID=America/Sao_Paulo;VALUE=DATE-TIME:20220812T193000
DTEND;TZID=America/Sao_Paulo;VALUE=DATE-TIME:20220812T220000
DTSTAMP;VALUE=DATE-TIME:20260421T141044Z
UID:76b73111acef4d6b8e3ea6493632a80c@www.camarataquaritinga.sp.gov.br
CREATED;VALUE=DATE-TIME:20220825T164321Z
LAST-MODIFIED;VALUE=DATE-TIME:20220825T164328Z
LOCATION:Virtual
URL:https://www.camarataquaritinga.sp.gov.br/imprensa/eventos/sessao-ordin
 aria-20
END:VEVENT
BEGIN:VTIMEZONE
TZID:America/Sao_Paulo
X-LIC-LOCATION:America/Sao_Paulo
BEGIN:STANDARD
DTSTART;VALUE=DATE-TIME:20190216T230000
TZNAME:-03
TZOFFSETFROM:-0200
TZOFFSETTO:-0300
END:STANDARD
END:VTIMEZONE
END:VCALENDAR
