BEGIN:VCALENDAR
VERSION:2.0
PRODID:-//Plone.org//NONSGML plone.app.event//EN
X-WR-TIMEZONE:America/Sao_Paulo
BEGIN:VEVENT
SUMMARY:Audiência Pública sobre a "Lei Todos Somos Professores
DTSTART;TZID=America/Sao_Paulo;VALUE=DATE-TIME:20260330T190000
DTEND;TZID=America/Sao_Paulo;VALUE=DATE-TIME:20260330T220000
DTSTAMP;VALUE=DATE-TIME:20260421T152916Z
UID:ba388fd4d8a24f048d0e002add7871da@www.camarataquaritinga.sp.gov.br
CREATED;VALUE=DATE-TIME:20260326T160816Z
LAST-MODIFIED;VALUE=DATE-TIME:20260326T160830Z
LOCATION:Câmara Municipal (Centro Cultural)
URL:https://www.camarataquaritinga.sp.gov.br/imprensa/eventos/audiencia-pu
 blica-sobre-a-lei-todos-somos-professores
END:VEVENT
BEGIN:VTIMEZONE
TZID:America/Sao_Paulo
X-LIC-LOCATION:America/Sao_Paulo
BEGIN:STANDARD
DTSTART;VALUE=DATE-TIME:20190216T230000
TZNAME:-03
TZOFFSETFROM:-0200
TZOFFSETTO:-0300
END:STANDARD
END:VTIMEZONE
END:VCALENDAR
